BEGIN:VCALENDAR
VERSION:2.0
PRODID:-//Tukios.com/
BEGIN:VEVENT
UID:cde0aa11-285b-44e6-b184-c294dd77d359@www.buranichfuneralhome.com
DTSTAMP:20260421T001440Z
DTSTART:20260502T140000Z
DTEND:20260502T160000Z
SUMMARY:Visitation
DESCRIPTION:
URL:https://www.buranichfuneralhome.com/obituaries/karl-von-knoblauch
LOCATION:Buranich Funeral Home 5431 W. Genesee Street  Camillus NY 13031
GEO:43.0404233;-76.27998
END:VEVENT
END:VCALENDAR