BEGIN:VCALENDAR
VERSION:2.0
PRODID:-//Tukios.com/
BEGIN:VEVENT
UID:4705c37b-e252-4024-8b5c-9ace04a7b894@www.buranichfuneralhome.com
DTSTAMP:20260421T001047Z
DTSTART:20260502T160000Z
DTEND:20260502T170000Z
SUMMARY:Funeral Service
DESCRIPTION:
URL:https://www.buranichfuneralhome.com/obituaries/karl-von-knoblauch
LOCATION:Buranich Funeral Home 5431 W. Genesee Street  Camillus NY 13031
GEO:43.0404233;-76.27998
END:VEVENT
END:VCALENDAR