BEGIN:VCALENDAR
VERSION:2.0
PRODID:-//Tukios.com/
BEGIN:VEVENT
UID:93b8c52d-3fa1-439d-bf12-54c1b79d6ba6@www.buranichfuneralhome.com
DTSTAMP:20260421T001558Z
DTSTART:20260505T130000Z
DTEND:20260505T140000Z
SUMMARY:Burial
DESCRIPTION:
URL:https://www.buranichfuneralhome.com/obituaries/karl-von-knoblauch
LOCATION:Onondaga County Veterans Memorial Cemetery 4069 Howlett Hill Rd. 
	 SYRACUSE NY 13215
GEO:43.0136869;-76.2296872
END:VEVENT
END:VCALENDAR