BEGIN:VCALENDAR
VERSION:2.0
PRODID:-//Tukios.com/
BEGIN:VEVENT
UID:d45a6cfd-6b64-4fb9-ae86-a63bfcb16097@www.buranichfuneralhome.com
DTSTAMP:20260420T232604Z
DTSTART:20260424T200000Z
DTEND:20260424T230000Z
SUMMARY:Visitation
DESCRIPTION:
URL:https://www.buranichfuneralhome.com/obituaries/michael-said
LOCATION:Buranich Funeral Home 5431 W. Genesee Street  Camillus NY 13031
GEO:43.0404233;-76.27998
END:VEVENT
END:VCALENDAR