BEGIN:VCALENDAR
VERSION:2.0
PRODID:-//Tukios.com/
BEGIN:VEVENT
UID:d206724b-61a9-41bf-8cca-4c2130609d93@www.buranichfuneralhome.com
DTSTAMP:20260420T232939Z
DTSTART:20260425T150000Z
DTEND:20260425T160000Z
SUMMARY:Funeral Service
DESCRIPTION:
URL:https://www.buranichfuneralhome.com/obituaries/michael-said
LOCATION:St. Mary & St. Mina Coptic Orthodox Church 106 Church Street  
	North Syracuse NY 13212
GEO:43.1347659;-76.1285345
END:VEVENT
END:VCALENDAR