BEGIN:VCALENDAR
VERSION:2.0
PRODID:-//Tukios.com/
BEGIN:VEVENT
UID:665c7416-ee24-4d98-8daa-b4361cac87a3@www.buranichfuneralhome.com
DTSTAMP:20260420T233446Z
DTSTART:20260425
SUMMARY:Burial
DESCRIPTION:
URL:https://www.buranichfuneralhome.com/obituaries/michael-said
LOCATION: 8668 County Rte 57  Baldwinsville NY 13027
GEO:43.1906351;-76.2714101
END:VEVENT
END:VCALENDAR